BEGIN:VCALENDAR
VERSION:2.0
PRODID:spatie/icalendar-generator
BEGIN:VEVENT
UID:746294b1418626d0b1e34869b58167f8-event-revolutionise.com.au
DTSTAMP:20240316T200333Z
SUMMARY:Recreational Crew Dragon Boat
DESCRIPTION:See https://www.clubsake.com/events/232568 for more.
LOCATION:Leschi South Sailboat Moorage
URL:https://www.clubsake.com/events/232568
DTSTART;TZID=America/Los_Angeles:20240504T080000
DTEND;TZID=America/Los_Angeles:20240504T090000
END:VEVENT
END:VCALENDAR