BEGIN:VCALENDAR
VERSION:2.0
PRODID:spatie/icalendar-generator
BEGIN:VEVENT
UID:ac613e736fc0cbd4dbe973d9d9fd3753-event-revolutionise.com.au
DTSTAMP:20240316T200438Z
SUMMARY:Survivor SAKE Practice
DESCRIPTION:See https://www.clubsake.com/events/232818 for more.
LOCATION:Leschi South Sailboat Moorage
URL:https://www.clubsake.com/events/232818
DTSTART;TZID=America/Los_Angeles:20240423T174500
DTEND;TZID=America/Los_Angeles:20240423T194500
END:VEVENT
END:VCALENDAR