BEGIN:VCALENDAR
VERSION:2.0
PRODID:spatie/icalendar-generator
BEGIN:VEVENT
UID:6b41ef6100332efdddf8829100c17e48-event-revolutionise.com.au
DTSTAMP:20240316T200227Z
SUMMARY:Survivor SAKE Practice
DESCRIPTION:See https://www.clubsake.com/events/232832 for more.
LOCATION:Leschi South Sailboat Moorage
URL:https://www.clubsake.com/events/232832
DTSTART;TZID=America/Los_Angeles:20240730T174500
DTEND;TZID=America/Los_Angeles:20240730T194500
END:VEVENT
END:VCALENDAR