BEGIN:VCALENDAR
VERSION:2.0
PRODID:spatie/icalendar-generator
BEGIN:VEVENT
UID:0d1ca193421c4f5cd1a4667c2d5297e5-event-revolutionise.com.au
DTSTAMP:20240817T090000Z
SUMMARY:Day of Play
DESCRIPTION:See https://www.clubsake.com/events/201525 for more.
LOCATION:Mt Baker Beach - 2205 Lake Washington Blvd S\, Seattle\, WA 98144
URL:https://www.clubsake.com/events/201525
DTSTART:20240817T090000
DTEND:20240817T090000
END:VEVENT
END:VCALENDAR