BEGIN:VCALENDAR
VERSION:2.0
PRODID:spatie/icalendar-generator
BEGIN:VEVENT
UID:60e6eb8c369225373d9d074ea79e2847-event-revolutionise.com.au
DTSTAMP:20240426T090000Z
SUMMARY:Kamini OC6 workshop - Level B
DESCRIPTION:See https://www.clubsake.com/events/215916 for more.
LOCATION:Lakewood Marina - 4500 Lake Washington Blvd S\, Seattle WA
URL:https://www.clubsake.com/events/215916
DTSTART:20240426T090000
DTEND:20240426T130000
END:VEVENT
END:VCALENDAR