BEGIN:VCALENDAR
VERSION:2.0
PRODID:spatie/icalendar-generator
BEGIN:VEVENT
UID:8a0b5cf76fa97deb42f0921550c77b53-event-revolutionise.com.au
DTSTAMP:20240426T140000Z
SUMMARY:Kamini OC6 workshop - Level A
DESCRIPTION:See https://www.clubsake.com/events/215917 for more.
LOCATION:Lakewood Marina - 4500 Lake Washington Blvd S\, Seattle WA
URL:https://www.clubsake.com/events/215917
DTSTART:20240426T140000
DTEND:20240426T180000
END:VEVENT
END:VCALENDAR