BEGIN:VCALENDAR
VERSION:2.0
PRODID:spatie/icalendar-generator
BEGIN:VEVENT
UID:e6a6b1fd66ec8919b52408f924b402b5-event-revolutionise.com.au
DTSTAMP:20240427T140000Z
SUMMARY:Kamini OC6 workshop - Level A
DESCRIPTION:See https://www.clubsake.com/events/215918 for more.
LOCATION:Lakewood Marina - 4500 Lake Washington Blvd S\, Seattle WA
URL:https://www.clubsake.com/events/215918
DTSTART:20240427T140000
DTEND:20240427T180000
END:VEVENT
END:VCALENDAR