BEGIN:VCALENDAR
VERSION:2.0
PRODID:spatie/icalendar-generator
BEGIN:VEVENT
UID:b2e9659fdd75c3910d9ab9a87e0e0739-event-revolutionise.com.au
DTSTAMP:20240402T183000Z
SUMMARY:Dragon Boat Training
DESCRIPTION:See https://www.clubsake.com/events/219874 for more.
LOCATION:Leschi South Sailboat Moorage
URL:https://www.clubsake.com/events/219874
DTSTART:20240402T183000
DTEND:20240402T200000
END:VEVENT
END:VCALENDAR