BEGIN:VCALENDAR
VERSION:2.0
PRODID:spatie/icalendar-generator
BEGIN:VEVENT
UID:16aaa4452fd21d4e4027361973f83f41-event-revolutionise.com.au
DTSTAMP:20240413T080000Z
SUMMARY:Dragon boat cleaning
DESCRIPTION:See https://www.clubsake.com/events/220253 for more.
LOCATION:Leschi South Sailboat Moorage
URL:https://www.clubsake.com/events/220253
DTSTART:20240413T080000
DTEND:20240413T113000
END:VEVENT
END:VCALENDAR