BEGIN:VCALENDAR
VERSION:2.0
PRODID:spatie/icalendar-generator
BEGIN:VEVENT
UID:c5b6b5c7ad26bb407c1f2d6e29349244-event-revolutionise.com.au
DTSTAMP:20240803T080000Z
SUMMARY:Dragon boat cleaning
DESCRIPTION:See https://www.clubsake.com/events/220257 for more.
LOCATION:Leschi South Sailboat Moorage
URL:https://www.clubsake.com/events/220257
DTSTART:20240803T080000
DTEND:20240803T113000
END:VEVENT
END:VCALENDAR