BEGIN:VCALENDAR
VERSION:2.0
PRODID:spatie/icalendar-generator
BEGIN:VEVENT
UID:70e4fafadb1c2122a5aa4c461def3c84-event-revolutionise.com.au
DTSTAMP:20241109T080000Z
SUMMARY:Dragon boat cleaning
DESCRIPTION:See https://www.clubsake.com/events/220260 for more.
LOCATION:Leschi South Sailboat Moorage
URL:https://www.clubsake.com/events/220260
DTSTART:20241109T080000
DTEND:20241109T113000
END:VEVENT
END:VCALENDAR