BEGIN:VCALENDAR
VERSION:2.0
PRODID:spatie/icalendar-generator
BEGIN:VEVENT
UID:0db0e6c8925ea2050a9d477a3b1e1a1d-event-revolutionise.com.au
DTSTAMP:20240810T080000Z
SUMMARY:Canada Dry Victoria Dragon Boat Festival
DESCRIPTION:See https://www.clubsake.com/events/220267 for more.
LOCATION:Victoria Inner Harbor
URL:https://www.clubsake.com/events/220267
DTSTART:20240810T080000
DTEND:20240811T170000
END:VEVENT
END:VCALENDAR