BEGIN:VCALENDAR
VERSION:2.0
PRODID:spatie/icalendar-generator
BEGIN:VEVENT
UID:02973fedc2ac6bed51f9788ca5889d4e-event-revolutionise.com.au
DTSTAMP:20240907T080000Z
SUMMARY:Portland Dragon Boat Festival
DESCRIPTION:See https://www.clubsake.com/events/220268 for more.
LOCATION:Tom McCall Waterfront Park
URL:https://www.clubsake.com/events/220268
DTSTART:20240907T080000
DTEND:20240908T170000
END:VEVENT
END:VCALENDAR