BEGIN:VCALENDAR
VERSION:2.0
PRODID:spatie/icalendar-generator
BEGIN:VEVENT
UID:8729b8ccf386cd32f5005b0a7b595338-event-revolutionise.com.au
DTSTAMP:20240727T113000Z
SUMMARY:Dragon Boat 101
DESCRIPTION:See https://www.clubsake.com/events/220385 for more.
LOCATION:Leschi South Sailboat Moorage
URL:https://www.clubsake.com/events/220385
DTSTART:20240727T113000
DTEND:20240727T130000
END:VEVENT
END:VCALENDAR