BEGIN:VCALENDAR
VERSION:2.0
PRODID:spatie/icalendar-generator
BEGIN:VEVENT
UID:3940d87d35bdb2d90a78cbb9fa38bc16-event-revolutionise.com.au
DTSTAMP:20241019T113000Z
SUMMARY:Dragon Boat 101
DESCRIPTION:See https://www.clubsake.com/events/220388 for more.
LOCATION:Leschi South Sailboat Moorage
URL:https://www.clubsake.com/events/220388
DTSTART:20241019T113000
DTEND:20241019T130000
END:VEVENT
END:VCALENDAR