BEGIN:VCALENDAR
VERSION:2.0
PRODID:spatie/icalendar-generator
BEGIN:VEVENT
UID:0c008fc54e47b920b6facd2e0177ae9d-event-revolutionise.com.au
DTSTAMP:20241116T113000Z
SUMMARY:Dragon Boat 101
DESCRIPTION:See https://www.clubsake.com/events/220389 for more.
LOCATION:Leschi South Sailboat Moorage
URL:https://www.clubsake.com/events/220389
DTSTART:20241116T113000
DTEND:20241116T130000
END:VEVENT
END:VCALENDAR