BEGIN:VCALENDAR
VERSION:2.0
PRODID:spatie/icalendar-generator
BEGIN:VEVENT
UID:97d061db59137950fc3444e0d3628710-event-revolutionise.com.au
DTSTAMP:20240406T093000Z
SUMMARY:SAKE Annual General Meeting
DESCRIPTION:See https://www.clubsake.com/events/224153 for more.
LOCATION:TBD
URL:https://www.clubsake.com/events/224153
DTSTART:20240406T093000
DTEND:20240406T113000
END:VEVENT
END:VCALENDAR