BEGIN:VCALENDAR
VERSION:2.0
PRODID:spatie/icalendar-generator
BEGIN:VEVENT
UID:57c1f2585d7e72197c115872d71f9b95-event-revolutionise.com.au
DTSTAMP:20240321T183000Z
SUMMARY:OC6 - General Session
DESCRIPTION:See https://www.clubsake.com/events/224417 for more.
LOCATION:Lakewood Marina - 4500 Lake Washington Blvd S\, Seattle WA
URL:https://www.clubsake.com/events/224417
DTSTART:20240321T183000
DTEND:20240321T203000
END:VEVENT
END:VCALENDAR