BEGIN:VCALENDAR
VERSION:2.0
PRODID:spatie/icalendar-generator
BEGIN:VEVENT
UID:69119ada20e1124adcbc5c5b4d777cad-event-revolutionise.com.au
DTSTAMP:20240328T110000Z
SUMMARY:Recreational Crew Dragon Boat
DESCRIPTION:See https://www.clubsake.com/events/225952 for more.
LOCATION:Leschi South Sailboat Moorage
URL:https://www.clubsake.com/events/225952
DTSTART:20240328T110000
DTEND:20240328T120000
END:VEVENT
END:VCALENDAR