BEGIN:VCALENDAR
VERSION:2.0
PRODID:spatie/icalendar-generator
BEGIN:VEVENT
UID:9038a1f988c1d263b774f640590faad9-event-revolutionise.com.au
DTSTAMP:20240323T080000Z
SUMMARY:Recreational Crew Dragon Boat
DESCRIPTION:See https://www.clubsake.com/events/225956 for more.
LOCATION:Leschi South Sailboat Moorage
URL:https://www.clubsake.com/events/225956
DTSTART:20240323T080000
DTEND:20240323T090000
END:VEVENT
END:VCALENDAR