BEGIN:VCALENDAR
VERSION:2.0
PRODID:spatie/icalendar-generator
BEGIN:VEVENT
UID:1651c5b70596a6834450334d73f57466-event-revolutionise.com.au
DTSTAMP:20240330T080000Z
SUMMARY:Recreational Crew Dragon Boat
DESCRIPTION:See https://www.clubsake.com/events/225957 for more.
LOCATION:Leschi South Sailboat Moorage
URL:https://www.clubsake.com/events/225957
DTSTART:20240330T080000
DTEND:20240330T090000
END:VEVENT
END:VCALENDAR