BEGIN:VCALENDAR
VERSION:2.0
PRODID:spatie/icalendar-generator
BEGIN:VEVENT
UID:956606a883961c32b8ce62f747438996-event-revolutionise.com.au
DTSTAMP:20240406T080000Z
SUMMARY:Recreational Crew Dragon Boat
DESCRIPTION:See https://www.clubsake.com/events/225958 for more.
LOCATION:Leschi South Sailboat Moorage
URL:https://www.clubsake.com/events/225958
DTSTART:20240406T080000
DTEND:20240406T090000
END:VEVENT
END:VCALENDAR