BEGIN:VCALENDAR
VERSION:2.0
PRODID:spatie/icalendar-generator
BEGIN:VEVENT
UID:ddaf063bbedd3a4a87249eb733a5e6bf-event-revolutionise.com.au
DTSTAMP:20240330T083000Z
SUMMARY:Survivor SAKE Practice
DESCRIPTION:See https://www.clubsake.com/events/227445 for more.
LOCATION:Leschi South Sailboat Moorage
URL:https://www.clubsake.com/events/227445
DTSTART:20240330T083000
DTEND:20240330T110000
END:VEVENT
END:VCALENDAR