BEGIN:VCALENDAR
VERSION:2.0
PRODID:spatie/icalendar-generator
BEGIN:VEVENT
UID:f0f71c6dd8a708e89c9a6cef81ff89c3-event-revolutionise.com.au
DTSTAMP:20240406T083000Z
SUMMARY:Survivor SAKE Practice
DESCRIPTION:See https://www.clubsake.com/events/227446 for more.
LOCATION:Leschi South Sailboat Moorage
URL:https://www.clubsake.com/events/227446
DTSTART:20240406T083000
DTEND:20240406T110000
END:VEVENT
END:VCALENDAR