BEGIN:VCALENDAR
VERSION:2.0
PRODID:spatie/icalendar-generator
BEGIN:VEVENT
UID:e767c82e9d85944f250c15988afdcff5-event-revolutionise.com.au
DTSTAMP:20240427T083000Z
SUMMARY:Survivor SAKE Practice
DESCRIPTION:See https://www.clubsake.com/events/227449 for more.
LOCATION:Leschi South Sailboat Moorage
URL:https://www.clubsake.com/events/227449
DTSTART:20240427T083000
DTEND:20240427T110000
END:VEVENT
END:VCALENDAR