BEGIN:VCALENDAR
VERSION:2.0
PRODID:spatie/icalendar-generator
BEGIN:VEVENT
UID:ca82fe01c1d80f78e2a0200196039fbe-event-revolutionise.com.au
DTSTAMP:20240326T174500Z
SUMMARY:Survivor SAKE Practice
DESCRIPTION:See https://www.clubsake.com/events/227862 for more.
LOCATION:Leschi South Sailboat Moorage
URL:https://www.clubsake.com/events/227862
DTSTART:20240326T174500
DTEND:20240326T194500
END:VEVENT
END:VCALENDAR