BEGIN:VCALENDAR
VERSION:2.0
PRODID:spatie/icalendar-generator
BEGIN:VEVENT
UID:ae188e7effb644a9a64a7b71ea36c885-event-revolutionise.com.au
DTSTAMP:20240504T083000Z
SUMMARY:Survivor SAKE Practice
DESCRIPTION:See https://www.clubsake.com/events/230939 for more.
LOCATION:Leschi South Sailboat Moorage
URL:https://www.clubsake.com/events/230939
DTSTART:20240504T083000
DTEND:20240504T110000
END:VEVENT
END:VCALENDAR