BEGIN:VCALENDAR
VERSION:2.0
PRODID:spatie/icalendar-generator
BEGIN:VEVENT
UID:be31be3bdaefa8285d1733d8a500c811-event-revolutionise.com.au
DTSTAMP:20240409T183000Z
SUMMARY:Dragon Boat Training
DESCRIPTION:See https://www.clubsake.com/events/230993 for more.
LOCATION:Leschi South Sailboat Moorage
URL:https://www.clubsake.com/events/230993
DTSTART:20240409T183000
DTEND:20240409T200000
END:VEVENT
END:VCALENDAR