BEGIN:VCALENDAR
VERSION:2.0
PRODID:spatie/icalendar-generator
BEGIN:VEVENT
UID:fb59cebc73fa736ed068d99127ad8f5d-event-revolutionise.com.au
DTSTAMP:20240430T183000Z
SUMMARY:Dragon Boat Training
DESCRIPTION:See https://www.clubsake.com/events/230997 for more.
LOCATION:Leschi South Sailboat Moorage
URL:https://www.clubsake.com/events/230997
DTSTART:20240430T183000
DTEND:20240430T200000
END:VEVENT
END:VCALENDAR