BEGIN:VCALENDAR
VERSION:2.0
PRODID:spatie/icalendar-generator
BEGIN:VEVENT
UID:653859609734bb48ee1b36cc4c6640e1-event-revolutionise.com.au
DTSTAMP:20240507T183000Z
SUMMARY:Dragon Boat Training
DESCRIPTION:See https://www.clubsake.com/events/230999 for more.
LOCATION:Leschi South Sailboat Moorage
URL:https://www.clubsake.com/events/230999
DTSTART:20240507T183000
DTEND:20240507T200000
END:VEVENT
END:VCALENDAR