BEGIN:VCALENDAR
VERSION:2.0
PRODID:spatie/icalendar-generator
BEGIN:VEVENT
UID:bf51efa7b18150e74675ded1c8a81932-event-revolutionise.com.au
DTSTAMP:20240813T183000Z
SUMMARY:Dragon Boat Training
DESCRIPTION:See https://www.clubsake.com/events/231015 for more.
LOCATION:Leschi South Sailboat Moorage
URL:https://www.clubsake.com/events/231015
DTSTART:20240813T183000
DTEND:20240813T200000
END:VEVENT
END:VCALENDAR