BEGIN:VCALENDAR
VERSION:2.0
PRODID:spatie/icalendar-generator
BEGIN:VEVENT
UID:c012306bf304840bddc5a8e7ee838c8c-event-revolutionise.com.au
DTSTAMP:20240504T090000Z
SUMMARY:Dragon Boat Training
DESCRIPTION:See https://www.clubsake.com/events/231028 for more.
LOCATION:Leschi South Sailboat Moorage
URL:https://www.clubsake.com/events/231028
DTSTART:20240504T090000
DTEND:20240504T110000
END:VEVENT
END:VCALENDAR