BEGIN:VCALENDAR
VERSION:2.0
PRODID:spatie/icalendar-generator
BEGIN:VEVENT
UID:c2e46622baed1fbc790a4af9e76db269-event-revolutionise.com.au
DTSTAMP:20240810T090000Z
SUMMARY:Dragon Boat Training
DESCRIPTION:See https://www.clubsake.com/events/231046 for more.
LOCATION:Leschi South Sailboat Moorage
URL:https://www.clubsake.com/events/231046
DTSTART:20240810T090000
DTEND:20240810T110000
END:VEVENT
END:VCALENDAR