BEGIN:VCALENDAR
VERSION:2.0
PRODID:spatie/icalendar-generator
BEGIN:VEVENT
UID:ce954d5316415d92c46949f814920df8-event-revolutionise.com.au
DTSTAMP:20240817T090000Z
SUMMARY:Dragon Boat Training
DESCRIPTION:See https://www.clubsake.com/events/231047 for more.
LOCATION:Leschi South Sailboat Moorage
URL:https://www.clubsake.com/events/231047
DTSTART:20240817T090000
DTEND:20240817T110000
END:VEVENT
END:VCALENDAR