BEGIN:VCALENDAR
VERSION:2.0
PRODID:spatie/icalendar-generator
BEGIN:VEVENT
UID:b918da278db6023005b6f97882a840ce-event-revolutionise.com.au
DTSTAMP:20240907T090000Z
SUMMARY:No Practice - Portland Festival
DESCRIPTION:See https://www.clubsake.com/events/231050 for more.
LOCATION:Al Hawr Portland
URL:https://www.clubsake.com/events/231050
DTSTART:20240907T090000
DTEND:20240907T110000
END:VEVENT
END:VCALENDAR