BEGIN:VCALENDAR
VERSION:2.0
PRODID:spatie/icalendar-generator
BEGIN:VEVENT
UID:efdaa7fce79158dbb20c55abe9dfc957-event-revolutionise.com.au
DTSTAMP:20240505T080000Z
SUMMARY:Barcelona Crew Training
DESCRIPTION:See https://www.clubsake.com/events/231147 for more.
LOCATION:Leschi South Sailboat Moorage
URL:https://www.clubsake.com/events/231147
DTSTART:20240505T080000
DTEND:20240505T110000
END:VEVENT
END:VCALENDAR