BEGIN:VCALENDAR
VERSION:2.0
PRODID:spatie/icalendar-generator
BEGIN:VEVENT
UID:a3448238559c250b1d63ed1c797bf9f3-event-revolutionise.com.au
DTSTAMP:20240317T120000Z
SUMMARY:OC6 - General Session
DESCRIPTION:See https://www.clubsake.com/events/231187 for more.
LOCATION:Lakewood Marina - 4500 Lake Washington Blvd S\, Seattle WA
URL:https://www.clubsake.com/events/231187
DTSTART:20240317T120000
DTEND:20240317T140000
END:VEVENT
END:VCALENDAR