BEGIN:VCALENDAR
VERSION:2.0
PRODID:spatie/icalendar-generator
BEGIN:VEVENT
UID:ac44c4e3f1bb0f79731fd5366877ad01-event-revolutionise.com.au
DTSTAMP:20240404T183000Z
SUMMARY:OC6 - General Session
DESCRIPTION:See https://www.clubsake.com/events/231848 for more.
LOCATION:Lakewood Marina - 4500 Lake Washington Blvd S\, Seattle WA
URL:https://www.clubsake.com/events/231848
DTSTART:20240404T183000
DTEND:20240404T203000
END:VEVENT
END:VCALENDAR