BEGIN:VCALENDAR
VERSION:2.0
PRODID:spatie/icalendar-generator
BEGIN:VEVENT
UID:3531c890901a88d56fdb08786b55b9fd-event-revolutionise.com.au
DTSTAMP:20240411T183000Z
SUMMARY:OC6 - General Session
DESCRIPTION:See https://www.clubsake.com/events/231849 for more.
LOCATION:Lakewood Marina - 4500 Lake Washington Blvd S\, Seattle WA
URL:https://www.clubsake.com/events/231849
DTSTART:20240411T183000
DTEND:20240411T203000
END:VEVENT
END:VCALENDAR