BEGIN:VCALENDAR
VERSION:2.0
PRODID:spatie/icalendar-generator
BEGIN:VEVENT
UID:7410894e6e3c2aa656cace569791f862-event-revolutionise.com.au
DTSTAMP:20240425T183000Z
SUMMARY:OC6 - General Session
DESCRIPTION:See https://www.clubsake.com/events/231852 for more.
LOCATION:Lakewood Marina - 4500 Lake Washington Blvd S\, Seattle WA
URL:https://www.clubsake.com/events/231852
DTSTART:20240425T183000
DTEND:20240425T203000
END:VEVENT
END:VCALENDAR