BEGIN:VCALENDAR
VERSION:2.0
PRODID:spatie/icalendar-generator
BEGIN:VEVENT
UID:82c81a60e32981a35585ce25fadc2362-event-revolutionise.com.au
DTSTAMP:20240407T120000Z
SUMMARY:OC6 - General Session
DESCRIPTION:See https://www.clubsake.com/events/231861 for more.
LOCATION:Lakewood Marina - 4500 Lake Washington Blvd S\, Seattle WA
URL:https://www.clubsake.com/events/231861
DTSTART:20240407T120000
DTEND:20240407T140000
END:VEVENT
END:VCALENDAR