BEGIN:VCALENDAR
VERSION:2.0
PRODID:spatie/icalendar-generator
BEGIN:VEVENT
UID:ab1411f7e6a1447f1b271091de5ec39c-event-revolutionise.com.au
DTSTAMP:20240421T120000Z
SUMMARY:OC6 - General Session
DESCRIPTION:See https://www.clubsake.com/events/231863 for more.
LOCATION:Lakewood Marina - 4500 Lake Washington Blvd S\, Seattle WA
URL:https://www.clubsake.com/events/231863
DTSTART:20240421T120000
DTEND:20240421T140000
END:VEVENT
END:VCALENDAR