BEGIN:VCALENDAR
VERSION:2.0
PRODID:spatie/icalendar-generator
BEGIN:VEVENT
UID:fae25a6e0558a47b7f49dfe07d2c38cb-event-revolutionise.com.au
DTSTAMP:20240428T120000Z
SUMMARY:OC6 - General Session
DESCRIPTION:See https://www.clubsake.com/events/231864 for more.
LOCATION:Lakewood Marina - 4500 Lake Washington Blvd S\, Seattle WA
URL:https://www.clubsake.com/events/231864
DTSTART:20240428T120000
DTEND:20240428T140000
END:VEVENT
END:VCALENDAR