BEGIN:VCALENDAR
VERSION:2.0
PRODID:spatie/icalendar-generator
BEGIN:VEVENT
UID:429a3f5a78a5b10c9cc901c92202621f-event-revolutionise.com.au
DTSTAMP:20240413T100000Z
SUMMARY:OC6 - General Session
DESCRIPTION:See https://www.clubsake.com/events/231866 for more.
LOCATION:Lakewood Marina - 4500 Lake Washington Blvd S\, Seattle WA
URL:https://www.clubsake.com/events/231866
DTSTART:20240413T100000
DTEND:20240413T120000
END:VEVENT
END:VCALENDAR