BEGIN:VCALENDAR
VERSION:2.0
PRODID:spatie/icalendar-generator
BEGIN:VEVENT
UID:34011e2de89fc37e260f662a23ba9b50-event-revolutionise.com.au
DTSTAMP:20240413T090000Z
SUMMARY:Dragon Boat Training
DESCRIPTION:See https://www.clubsake.com/events/232143 for more.
LOCATION:Leschi South Sailboat Moorage
URL:https://www.clubsake.com/events/232143
DTSTART:20240413T090000
DTEND:20240413T110000
END:VEVENT
END:VCALENDAR