BEGIN:VCALENDAR
VERSION:2.0
PRODID:spatie/icalendar-generator
BEGIN:VEVENT
UID:40b5e1ed5bfb47c5cb0e3f8139d870e2-event-revolutionise.com.au
DTSTAMP:20240418T110000Z
SUMMARY:Recreational Crew Dragon Boat
DESCRIPTION:See https://www.clubsake.com/events/232560 for more.
LOCATION:Leschi South Sailboat Moorage
URL:https://www.clubsake.com/events/232560
DTSTART:20240418T110000
DTEND:20240418T120000
END:VEVENT
END:VCALENDAR