BEGIN:VCALENDAR
VERSION:2.0
PRODID:spatie/icalendar-generator
BEGIN:VEVENT
UID:4e62df0faead5510b8d88324863ce464-event-revolutionise.com.au
DTSTAMP:20240413T080000Z
SUMMARY:Recreational Crew Dragon Boat
DESCRIPTION:See https://www.clubsake.com/events/232565 for more.
LOCATION:Leschi South Sailboat Moorage
URL:https://www.clubsake.com/events/232565
DTSTART:20240413T080000
DTEND:20240413T090000
END:VEVENT
END:VCALENDAR