BEGIN:VCALENDAR
VERSION:2.0
PRODID:spatie/icalendar-generator
BEGIN:VEVENT
UID:a85d897d32ad4caeee5cbecb4bb876b7-event-revolutionise.com.au
DTSTAMP:20240427T080000Z
SUMMARY:Recreational Crew Dragon Boat
DESCRIPTION:See https://www.clubsake.com/events/232567 for more.
LOCATION:Leschi South Sailboat Moorage
URL:https://www.clubsake.com/events/232567
DTSTART:20240427T080000
DTEND:20240427T090000
END:VEVENT
END:VCALENDAR