BEGIN:VCALENDAR
VERSION:2.0
PRODID:spatie/icalendar-generator
BEGIN:VEVENT
UID:81b17bdf8fa862227a658ca4827d396c-event-revolutionise.com.au
DTSTAMP:20240409T174500Z
SUMMARY:Survivor SAKE Practice
DESCRIPTION:See https://www.clubsake.com/events/232816 for more.
LOCATION:Leschi South Sailboat Moorage
URL:https://www.clubsake.com/events/232816
DTSTART:20240409T174500
DTEND:20240409T194500
END:VEVENT
END:VCALENDAR