BEGIN:VCALENDAR
VERSION:2.0
PRODID:spatie/icalendar-generator
BEGIN:VEVENT
UID:63a3a67148d5d31c6af0ff6c67cd3ac2-event-revolutionise.com.au
DTSTAMP:20240416T174500Z
SUMMARY:Survivor SAKE Practice
DESCRIPTION:See https://www.clubsake.com/events/232817 for more.
LOCATION:Leschi South Sailboat Moorage
URL:https://www.clubsake.com/events/232817
DTSTART:20240416T174500
DTEND:20240416T194500
END:VEVENT
END:VCALENDAR